BEGIN:VCALENDAR
VERSION:2.0
PRODID:-//Tukios.com/
BEGIN:VEVENT
UID:06d840a4-bc1e-4d83-b195-9370e81f10d0@www.twincityfh.com
DTSTAMP:20260421T021810Z
DTSTART:20260422T150000Z
DTEND:20260422T190000Z
SUMMARY:Visitation
DESCRIPTION:
URL:https://www.twincityfh.com/obituaries/david-andrews
LOCATION:Twin City Funeral Home 412 Fourth St  Morgan City LA 70380
GEO:29.6955814;-91.203309
END:VEVENT
END:VCALENDAR