BEGIN:VCALENDAR
VERSION:2.0
PRODID:-//Tukios.com/
BEGIN:VEVENT
UID:fb9ee095-1011-4324-855c-fa06fd7eb59e@www.twincityfh.com
DTSTAMP:20260421T022101Z
DTSTART:20260422T190000Z
DTEND:20260422T200000Z
SUMMARY:Funeral Service
DESCRIPTION:
URL:https://www.twincityfh.com/obituaries/david-andrews
LOCATION:Twin City Funeral Home 412 Fourth St  Morgan City LA 70380
GEO:29.6955814;-91.203309
END:VEVENT
END:VCALENDAR