BEGIN:VCALENDAR
VERSION:2.0
PRODID:-//Tukios.com/
BEGIN:VEVENT
UID:c0c04a03-a20d-4692-a0c1-24b19edd33d1@www.twincityfh.com
DTSTAMP:20260424T173818Z
DTSTART:20260425T200000Z
DTEND:20260425T220000Z
SUMMARY:Memorial Service
DESCRIPTION:
URL:https://www.twincityfh.com/obituaries/marilyn-rock
LOCATION:Lake End Park 2300 Louisiana 70  Morgan City LA 70380
GEO:29.7209468;-91.1898472
END:VEVENT
END:VCALENDAR